BEGIN:VCALENDAR
VERSION:2.0
PRODID:-//Tyler&#039;s Light - ECPv6.2.0.1//NONSGML v1.0//EN
CALSCALE:GREGORIAN
METHOD:PUBLISH
X-WR-CALNAME:Tyler&#039;s Light
X-ORIGINAL-URL:https://tylerslight.com
X-WR-CALDESC:Events for Tyler&#039;s Light
REFRESH-INTERVAL;VALUE=DURATION:PT1H
X-Robots-Tag:noindex
X-PUBLISHED-TTL:PT1H
BEGIN:VTIMEZONE
TZID:America/New_York
BEGIN:DAYLIGHT
TZOFFSETFROM:-0500
TZOFFSETTO:-0400
TZNAME:EDT
DTSTART:20150308T070000
END:DAYLIGHT
BEGIN:STANDARD
TZOFFSETFROM:-0400
TZOFFSETTO:-0500
TZNAME:EST
DTSTART:20151101T060000
END:STANDARD
END:VTIMEZONE
BEGIN:VEVENT
DTSTART;TZID=America/New_York:20151124T080000
DTEND;TZID=America/New_York:20151124T150000
DTSTAMP:20260424T034056
CREATED:20151009T022215Z
LAST-MODIFIED:20151009T022215Z
UID:4106-1448352000-1448377200@tylerslight.com
SUMMARY:North Union MS & HS to host Tyler's Light
DESCRIPTION:Peg Curts – contact 450 students at HS
URL:https://tylerslight.com/event/north-union-ms-hs-host-tylers-light-2/2015-11-24/
END:VEVENT
BEGIN:VEVENT
DTSTART;TZID=America/New_York:20151124T080000
DTEND;TZID=America/New_York:20151124T140000
DTSTAMP:20260424T034056
CREATED:20151002T200322Z
LAST-MODIFIED:20151002T200322Z
UID:4083-1448352000-1448373600@tylerslight.com
SUMMARY:North Union MS & HS to host Tyler's Light
DESCRIPTION:Peg Curtis to host
URL:https://tylerslight.com/event/north-union-ms-hs-host-tylers-light/2015-11-24/
END:VEVENT
BEGIN:VEVENT
DTSTART;TZID=America/New_York:20151123T180000
DTEND;TZID=America/New_York:20151123T200000
DTSTAMP:20260424T034056
CREATED:20150928T043958Z
LAST-MODIFIED:20150928T044024Z
UID:4063-1448301600-1448308800@tylerslight.com
SUMMARY:BOARD MEETING - Tyler's Light
DESCRIPTION:
URL:https://tylerslight.com/event/board-meeting-tylers-light-3/2015-11-23/
END:VEVENT
BEGIN:VEVENT
DTSTART;TZID=America/New_York:20151123T180000
DTEND;TZID=America/New_York:20151123T200000
DTSTAMP:20260424T034056
CREATED:20150915T183256Z
LAST-MODIFIED:20150915T183256Z
UID:3980-1448301600-1448308800@tylerslight.com
SUMMARY:Tyler's Light Board meeting
DESCRIPTION:Tyler’s Light Board meeting
URL:https://tylerslight.com/event/tylers-light-board-meeting-13/2015-11-23/
ORGANIZER;CN="Tom%20Blaies":MAILTO:tblaies@tylerslight.com
END:VEVENT
BEGIN:VEVENT
DTSTART;TZID=America/New_York:20151120T080000
DTEND;TZID=America/New_York:20151120T110000
DTSTAMP:20260424T034056
CREATED:20151102T213510Z
LAST-MODIFIED:20151102T213510Z
UID:4193-1448006400-1448017200@tylerslight.com
SUMMARY:Adena HS & MS Frankfort\, Oh to host Tyler's Light
DESCRIPTION:Pete Ruby – contact 2 presentations\, 300 HS & 300 MS
URL:https://tylerslight.com/event/adena-hs-ms-frankfort-host-tylers-light/2015-11-20/
END:VEVENT
BEGIN:VEVENT
DTSTART;TZID=America/New_York:20151117T080000
DTEND;TZID=America/New_York:20151117T110000
DTSTAMP:20260424T034056
CREATED:20151102T213144Z
LAST-MODIFIED:20151102T213144Z
UID:4192-1447747200-1447758000@tylerslight.com
SUMMARY:Newark HS to host Tyler's Light
DESCRIPTION:Tom Bowman – contact\, 2 presentations\, 1200 students grades 9-12
URL:https://tylerslight.com/event/newark-hs-host-tylers-light/2015-11-17/
END:VEVENT
BEGIN:VEVENT
DTSTART;TZID=America/New_York:20151112T120000
DTEND;TZID=America/New_York:20151112T150000
DTSTAMP:20260424T034056
CREATED:20151009T022721Z
LAST-MODIFIED:20151009T022721Z
UID:4107-1447329600-1447340400@tylerslight.com
SUMMARY:Southeastern MS & HS to host Tyler's Light
DESCRIPTION:John EVans – contact 350 HS\, 200 MS
URL:https://tylerslight.com/event/southeastern-ms-hs-host-tylers-light/2015-11-12/
END:VEVENT
BEGIN:VEVENT
DTSTART;TZID=America/New_York:20151105T120000
DTEND;TZID=America/New_York:20151105T150000
DTSTAMP:20260424T034056
CREATED:20151015T141837Z
LAST-MODIFIED:20151015T141837Z
UID:4110-1446724800-1446735600@tylerslight.com
SUMMARY:Utica MS & HS to host Tyler's Light
DESCRIPTION:Mark Bowman – host\, 2 presentations.  400-HS\, 285 MS (685)
URL:https://tylerslight.com/event/utica-ms-hs-host-tylers-light/2015-11-05/
END:VEVENT
BEGIN:VEVENT
DTSTART;TZID=America/New_York:20151104T080000
DTEND;TZID=America/New_York:20151104T130000
DTSTAMP:20260424T034056
CREATED:20151102T182420Z
LAST-MODIFIED:20151102T182420Z
UID:4189-1446624000-1446642000@tylerslight.com
SUMMARY:Granville HS to host Tyler's Light
DESCRIPTION:Matt Durst – host (4) presentations 9-12  (700) students.
URL:https://tylerslight.com/event/granville-hs-host-tylers-light/2015-11-04/
END:VEVENT
BEGIN:VEVENT
DTSTART;TZID=America/New_York:20151103T113000
DTEND;TZID=America/New_York:20151103T130000
DTSTAMP:20260424T034056
CREATED:20151009T021714Z
LAST-MODIFIED:20151009T021714Z
UID:4105-1446550200-1446555600@tylerslight.com
SUMMARY:St. Pius MS (Reynoldsburg) to host Tyler's Light
DESCRIPTION:Lindsay Sullivan – host 115 students grades 7-8  (bring audio/visual)
URL:https://tylerslight.com/event/st-pius-ms-reynoldsburg-host-tylers-light/2015-11-03/
END:VEVENT
BEGIN:VEVENT
DTSTART;TZID=America/New_York:20151103T093000
DTEND;TZID=America/New_York:20151103T103000
DTSTAMP:20260424T034056
CREATED:20150928T043909Z
LAST-MODIFIED:20150928T043909Z
UID:4062-1446543000-1446546600@tylerslight.com
SUMMARY:St. Pius to host Tyler's Light
DESCRIPTION:Lindsay Sullivan – host\, 115 students in 7-8th grade
URL:https://tylerslight.com/event/st-pius-host-tylers-light/2015-11-03/
END:VEVENT
BEGIN:VEVENT
DTSTART;TZID=America/New_York:20151029T180000
DTEND;TZID=America/New_York:20151029T200000
DTSTAMP:20260424T034056
CREATED:20150928T043155Z
LAST-MODIFIED:20150928T043155Z
UID:4061-1446141600-1446148800@tylerslight.com
SUMMARY:OSU school of Pharmacy NOPE Candle Light Vigil
DESCRIPTION:Nira Kadakia – host\, Generation RX Collaborative
URL:https://tylerslight.com/event/osu-school-pharmacy-nope-candle-light-vigil/2015-10-29/
END:VEVENT
BEGIN:VEVENT
DTSTART;TZID=America/New_York:20151029T090000
DTEND;TZID=America/New_York:20151029T113000
DTSTAMP:20260424T034056
CREATED:20151002T195211Z
LAST-MODIFIED:20151002T195211Z
UID:4081-1446109200-1446118200@tylerslight.com
SUMMARY:Unioto MS & HS to host Tyler's Light
DESCRIPTION:Sara Williams – host 2 presentations
URL:https://tylerslight.com/event/unioto-ms-hs-host-tylers-light/2015-10-29/
END:VEVENT
BEGIN:VEVENT
DTSTART;TZID=America/New_York:20151028T080000
DTEND;TZID=America/New_York:20151028T090000
DTSTAMP:20260424T034056
CREATED:20150928T042711Z
LAST-MODIFIED:20150928T042711Z
UID:4060-1446019200-1446022800@tylerslight.com
SUMMARY:Worthingway MS to host Tyler's Light
DESCRIPTION:Nick Wiedenhoft – host\, 4oo students 7-8th grades
URL:https://tylerslight.com/event/worthingway-ms-host-tylers-light-2/2015-10-28/
END:VEVENT
BEGIN:VEVENT
DTSTART;TZID=America/New_York:20151027T080000
DTEND;TZID=America/New_York:20151027T130000
DTSTAMP:20260424T034056
CREATED:20150928T042138Z
LAST-MODIFIED:20150928T042138Z
UID:4058-1445932800-1445950800@tylerslight.com
SUMMARY:Chillicothe HS & MS to host Tyler's Light
DESCRIPTION:Jon Saxton – host\, 2 presentations.
URL:https://tylerslight.com/event/chillicothe-hs-ms-host-tylers-light/2015-10-27/
END:VEVENT
BEGIN:VEVENT
DTSTART;TZID=America/New_York:20151026T073000
DTEND;TZID=America/New_York:20151026T100000
DTSTAMP:20260424T034056
CREATED:20151002T194636Z
LAST-MODIFIED:20151002T194636Z
UID:4080-1445844600-1445853600@tylerslight.com
SUMMARY:Shanahan MS\, Olentangy schools to host Tyler's Light
DESCRIPTION:Jackie McGill – host 2 presentations\, 1200 students
URL:https://tylerslight.com/event/shanahan-ms-olentangy-schools-host-tylers-light/2015-10-26/
END:VEVENT
BEGIN:VEVENT
DTSTART;TZID=America/New_York:20151022T080000
DTEND;TZID=America/New_York:20151022T130000
DTSTAMP:20260424T034056
CREATED:20150928T040753Z
LAST-MODIFIED:20150928T040753Z
UID:4055-1445500800-1445518800@tylerslight.com
SUMMARY:DRUG FREE CLUBS testing day at PHSC
DESCRIPTION:2nd day to test at PHSC for club
URL:https://tylerslight.com/event/drug-free-clubs-testing-day-phsc-2/2015-10-22/
END:VEVENT
BEGIN:VEVENT
DTSTART;TZID=America/New_York:20151021T090000
DTEND;TZID=America/New_York:20151021T140000
DTSTAMP:20260424T034056
CREATED:20150928T041308Z
LAST-MODIFIED:20150928T041308Z
UID:4056-1445418000-1445436000@tylerslight.com
SUMMARY:Delaware Area Career Centers to host Tyler's Light
DESCRIPTION:Dan Yarnell – host\, resource officer. \n2 presentations\, 2 facilities  725 students total
URL:https://tylerslight.com/event/delaware-area-career-centers-host-tylers-light/2015-10-21/
END:VEVENT
BEGIN:VEVENT
DTSTART;TZID=America/New_York:20151021T080000
DTEND;TZID=America/New_York:20151021T130000
DTSTAMP:20260424T034056
CREATED:20150928T040620Z
LAST-MODIFIED:20150928T040620Z
UID:4054-1445414400-1445432400@tylerslight.com
SUMMARY:DRUG FREE CLUBS testing day at PHSC
DESCRIPTION:1st day to test at PHSC for club
URL:https://tylerslight.com/event/drug-free-clubs-testing-day-phsc/2015-10-21/
END:VEVENT
BEGIN:VEVENT
DTSTART;TZID=America/New_York:20151020T090000
DTEND;TZID=America/New_York:20151020T120000
DTSTAMP:20260424T034056
CREATED:20151022T225946Z
LAST-MODIFIED:20151022T225946Z
UID:4127-1445331600-1445342400@tylerslight.com
SUMMARY:Guidepost magazine interview
DESCRIPTION:Evan Miller – writer.  article to be published in Feb 2016 edition.  3 hour interview
URL:https://tylerslight.com/event/guidepost-magazine-interview/2015-10-20/
END:VEVENT
BEGIN:VEVENT
DTSTART;TZID=America/New_York:20151019T150000
DTEND;TZID=America/New_York:20151019T160000
DTSTAMP:20260424T034056
CREATED:20151022T231729Z
LAST-MODIFIED:20151022T231729Z
UID:4128-1445266800-1445270400@tylerslight.com
SUMMARY:Healing Word Radio WHKC-FM 91.5 interview
DESCRIPTION:SANDY & BILL GRIFFIN – hosts
URL:https://tylerslight.com/event/healing-word-radio-whkc-fm-91-5-interview/2015-10-19/
END:VEVENT
BEGIN:VEVENT
DTSTART;TZID=America/New_York:20151019T103000
DTEND;TZID=America/New_York:20151019T113000
DTSTAMP:20260424T034056
CREATED:20150928T161822Z
LAST-MODIFIED:20150928T162051Z
UID:4068-1445250600-1445254200@tylerslight.com
SUMMARY:Bishop Watterson HS to host Tyler's Light
DESCRIPTION:Casey Teeters – host\, 12oo students
URL:https://tylerslight.com/event/bishop-watterson-hs-host-tylers-light/2015-10-19/
END:VEVENT
BEGIN:VEVENT
DTSTART;TZID=America/New_York:20151016T113000
DTEND;TZID=America/New_York:20151016T130000
DTSTAMP:20260424T034056
CREATED:20151002T193814Z
LAST-MODIFIED:20151002T193814Z
UID:4078-1444995000-1445000400@tylerslight.com
SUMMARY:Opiate Task Force - Fairfield County meeting
DESCRIPTION:
URL:https://tylerslight.com/event/opiate-task-force-fairfield-county-meeting-4/2015-10-16/
END:VEVENT
BEGIN:VEVENT
DTSTART;TZID=America/New_York:20151015T180000
DTEND;TZID=America/New_York:20151015T210000
DTSTAMP:20260424T034056
CREATED:20150928T040308Z
LAST-MODIFIED:20150928T040308Z
UID:4053-1444932000-1444942800@tylerslight.com
SUMMARY:Pickerington Education Charity Auction
DESCRIPTION:Hickory Lakes
URL:https://tylerslight.com/event/pickerington-education-charity-auction/2015-10-15/
END:VEVENT
BEGIN:VEVENT
DTSTART;TZID=America/New_York:20151015T113000
DTEND;TZID=America/New_York:20151015T123000
DTSTAMP:20260424T034056
CREATED:20151002T194326Z
LAST-MODIFIED:20151002T194326Z
UID:4079-1444908600-1444912200@tylerslight.com
SUMMARY:Mercator Club of Columbus - lunch meeting
DESCRIPTION:Worthington Hills Country Club – Jeff Fix
URL:https://tylerslight.com/event/mercator-club-columbus-lunch-meeting/2015-10-15/
END:VEVENT
BEGIN:VEVENT
DTSTART;TZID=America/New_York:20151013T110000
DTEND;TZID=America/New_York:20151013T120000
DTSTAMP:20260424T034056
CREATED:20150928T020501Z
LAST-MODIFIED:20150928T020501Z
UID:4049-1444734000-1444737600@tylerslight.com
SUMMARY:Reynoldsburg H.S. STEM to host Tyler's Light
DESCRIPTION:Scott Bennet- host  200 freshman
URL:https://tylerslight.com/event/reynoldsburg-h-s-stem-host-tylers-light/2015-10-13/
END:VEVENT
BEGIN:VEVENT
DTSTART;TZID=America/New_York:20151013T080000
DTEND;TZID=America/New_York:20151013T130000
DTSTAMP:20260424T034056
CREATED:20150928T035411Z
LAST-MODIFIED:20150928T035411Z
UID:4051-1444723200-1444741200@tylerslight.com
SUMMARY:DRUG FREE CLUBS test day at PHSN
DESCRIPTION:2nd test day for HS students to join club
URL:https://tylerslight.com/event/drug-free-clubs-test-day-phsn-2/2015-10-13/
END:VEVENT
BEGIN:VEVENT
DTSTART;TZID=America/New_York:20151012T080000
DTEND;TZID=America/New_York:20151012T130000
DTSTAMP:20260424T034056
CREATED:20150928T035258Z
LAST-MODIFIED:20150928T035258Z
UID:4050-1444636800-1444654800@tylerslight.com
SUMMARY:DRUG FREE CLUBS test day at PHSN
DESCRIPTION:8am to 1pm signing up students for Drug Free Clubs
URL:https://tylerslight.com/event/drug-free-clubs-test-day-phsn/2015-10-12/
END:VEVENT
BEGIN:VEVENT
DTSTART;TZID=America/New_York:20151009T090000
DTEND;TZID=America/New_York:20151009T100000
DTSTAMP:20260424T034056
CREATED:20150928T015419Z
LAST-MODIFIED:20150928T015419Z
UID:4046-1444381200-1444384800@tylerslight.com
SUMMARY:Pike County Superintendents to host Tyler's Light
DESCRIPTION:Steve Martin- host
URL:https://tylerslight.com/event/pike-county-superintendents-host-tylers-light/2015-10-09/
END:VEVENT
BEGIN:VEVENT
DTSTART;TZID=America/New_York:20151008T120000
DTEND;TZID=America/New_York:20151008T130000
DTSTAMP:20260424T034056
CREATED:20150928T020126Z
LAST-MODIFIED:20150928T020126Z
UID:4048-1444305600-1444309200@tylerslight.com
SUMMARY:Newark Rotary Club to host Tyler's Light
DESCRIPTION:Eric Horvath – host
URL:https://tylerslight.com/event/newark-rotary-club-host-tylers-light/2015-10-08/
END:VEVENT
END:VCALENDAR