BEGIN:VCALENDAR
VERSION:2.0
PRODID:-//Tyler&#039;s Light - ECPv6.2.0.1//NONSGML v1.0//EN
CALSCALE:GREGORIAN
METHOD:PUBLISH
X-WR-CALNAME:Tyler&#039;s Light
X-ORIGINAL-URL:https://tylerslight.com
X-WR-CALDESC:Events for Tyler&#039;s Light
REFRESH-INTERVAL;VALUE=DURATION:PT1H
X-Robots-Tag:noindex
X-PUBLISHED-TTL:PT1H
BEGIN:VTIMEZONE
TZID:America/New_York
BEGIN:DAYLIGHT
TZOFFSETFROM:-0500
TZOFFSETTO:-0400
TZNAME:EDT
DTSTART:20160313T070000
END:DAYLIGHT
BEGIN:STANDARD
TZOFFSETFROM:-0400
TZOFFSETTO:-0500
TZNAME:EST
DTSTART:20161106T060000
END:STANDARD
END:VTIMEZONE
BEGIN:VEVENT
DTSTART;TZID=America/New_York:20160404T080000
DTEND;TZID=America/New_York:20160404T140000
DTSTAMP:20260423T022428
CREATED:20160304T030410Z
LAST-MODIFIED:20160304T030525Z
UID:4508-1459756800-1459778400@tylerslight.com
SUMMARY:Cuyahoga Falls & Woodridge HS's to host Tyler's Light
DESCRIPTION:Johanna Tanno – host
URL:https://tylerslight.com/event/cuyahoga-falls-woodridge-hss-host-tylers-light/
END:VEVENT
BEGIN:VEVENT
DTSTART;TZID=America/New_York:20160401T080000
DTEND;TZID=America/New_York:20160401T150000
DTSTAMP:20260423T022428
CREATED:20151212T050119Z
LAST-MODIFIED:20151212T050119Z
UID:4284-1459497600-1459522800@tylerslight.com
SUMMARY:Rittman MS & HS to host Tyler's Light
DESCRIPTION:Kerri Hamsher – host
URL:https://tylerslight.com/event/rittman-ms-hs-host-tylers-light/2016-04-01/
END:VEVENT
BEGIN:VEVENT
DTSTART;TZID=America/New_York:20160328T080000
DTEND;TZID=America/New_York:20160331T170000
DTSTAMP:20260423T022428
CREATED:20160327T045438Z
LAST-MODIFIED:20160327T045438Z
UID:4584-1459152000-1459443600@tylerslight.com
SUMMARY:National Rx Drug Abuse Summit - Atlanta\, Ga
DESCRIPTION:
URL:https://tylerslight.com/event/national-rx-drug-abuse-summit-atlanta-ga/
END:VEVENT
BEGIN:VEVENT
DTSTART;TZID=America/New_York:20160324T080000
DTEND;TZID=America/New_York:20160324T120000
DTSTAMP:20260423T022428
CREATED:20160327T045307Z
LAST-MODIFIED:20160327T045307Z
UID:4583-1458806400-1458820800@tylerslight.com
SUMMARY:Senator Rob Portman - PSA
DESCRIPTION:Upper Arlington
URL:https://tylerslight.com/event/senator-rob-portman-psa/
END:VEVENT
BEGIN:VEVENT
DTSTART;TZID=America/New_York:20160323T080000
DTEND;TZID=America/New_York:20160323T170000
DTSTAMP:20260423T022428
CREATED:20151212T045642Z
LAST-MODIFIED:20160327T051009Z
UID:4283-1458720000-1458752400@tylerslight.com
SUMMARY:Franklin County Opiate Crisis Summit
DESCRIPTION:Brian Toth – host
URL:https://tylerslight.com/event/heroin-summit-cpd-academy/
END:VEVENT
BEGIN:VEVENT
DTSTART;TZID=America/New_York:20160318T080000
DTEND;TZID=America/New_York:20160318T140000
DTSTAMP:20260423T022428
CREATED:20160304T030104Z
LAST-MODIFIED:20160304T030104Z
UID:4507-1458288000-1458309600@tylerslight.com
SUMMARY:Canal Winchester HS to host Tyler's Light
DESCRIPTION:Greg Lahr – host 1200 students
URL:https://tylerslight.com/event/canal-winchester-hs-host-tylers-light/
END:VEVENT
BEGIN:VEVENT
DTSTART;TZID=America/New_York:20160317T110000
DTEND;TZID=America/New_York:20160317T130000
DTSTAMP:20260423T022428
CREATED:20160304T025828Z
LAST-MODIFIED:20160304T025828Z
UID:4506-1458212400-1458219600@tylerslight.com
SUMMARY:Licking County Superintendents to host Tyler's Light
DESCRIPTION:Licking Memorial Health Systems – host
URL:https://tylerslight.com/event/licking-county-superintendents-host-tylers-light/
END:VEVENT
BEGIN:VEVENT
DTSTART;TZID=America/New_York:20160315T080000
DTEND;TZID=America/New_York:20160315T110000
DTSTAMP:20260423T022428
CREATED:20160327T045153Z
LAST-MODIFIED:20160327T045153Z
UID:4582-1458028800-1458039600@tylerslight.com
SUMMARY:Fairfield Christian Academy to host Tyler's Light
DESCRIPTION:Rosina Fischer – host  275 grades 7-12
URL:https://tylerslight.com/event/fairfield-christian-academy-host-tylers-light/
END:VEVENT
BEGIN:VEVENT
DTSTART;TZID=America/New_York:20160314T173000
DTEND;TZID=America/New_York:20160314T190000
DTSTAMP:20260423T022428
CREATED:20160304T025700Z
LAST-MODIFIED:20160304T025700Z
UID:4505-1457976600-1457982000@tylerslight.com
SUMMARY:OSU Community Health Workers to host Tyler's Light
DESCRIPTION:Milu Nguyen – host
URL:https://tylerslight.com/event/osu-community-health-workers-host-tylers-light/
END:VEVENT
BEGIN:VEVENT
DTSTART;TZID=America/New_York:20160314T130000
DTEND;TZID=America/New_York:20160314T150000
DTSTAMP:20260423T022428
CREATED:20160304T024924Z
LAST-MODIFIED:20160304T025133Z
UID:4504-1457960400-1457967600@tylerslight.com
SUMMARY:Hilliard Davidson to host Tyler's Light/Drug Free Clubs
DESCRIPTION:Erica O’Keefe – host
URL:https://tylerslight.com/event/hilliard-davidson-host-tylers-lightdrug-free-clubs/
END:VEVENT
BEGIN:VEVENT
DTSTART;TZID=America/New_York:20160310T080000
DTEND;TZID=America/New_York:20160310T170000
DTSTAMP:20260423T022428
CREATED:20151212T045453Z
LAST-MODIFIED:20151212T045527Z
UID:4282-1457596800-1457629200@tylerslight.com
SUMMARY:Mt. Carmel Trauma Symposium
DESCRIPTION:Jamie Wilson – host
URL:https://tylerslight.com/event/mt-carmel-trauma-symposium/2016-03-10/
END:VEVENT
BEGIN:VEVENT
DTSTART;TZID=America/New_York:20160308T080000
DTEND;TZID=America/New_York:20160308T140000
DTSTAMP:20260423T022428
CREATED:20151212T045033Z
LAST-MODIFIED:20151212T045033Z
UID:4281-1457424000-1457445600@tylerslight.com
SUMMARY:Drug Free Clubs test day
DESCRIPTION:both schools
URL:https://tylerslight.com/event/drug-free-clubs-test-day-2/2016-03-08/
END:VEVENT
BEGIN:VEVENT
DTSTART;TZID=America/New_York:20160307T180000
DTEND;TZID=America/New_York:20160307T200000
DTSTAMP:20260423T022428
CREATED:20160304T024414Z
LAST-MODIFIED:20160304T024414Z
UID:4503-1457373600-1457380800@tylerslight.com
SUMMARY:Judge Vanderkarr/Brad Koffel meeting
DESCRIPTION:Eric Brindle – guest
URL:https://tylerslight.com/event/judge-vanderkarrbrad-koffel-meeting/
END:VEVENT
BEGIN:VEVENT
DTSTART;TZID=America/New_York:20160306T180000
DTEND;TZID=America/New_York:20160306T220000
DTSTAMP:20260423T022428
CREATED:20160217T133024Z
LAST-MODIFIED:20160217T133024Z
UID:4444-1457287200-1457301600@tylerslight.com
SUMMARY:Drug Free Club party @ Rule3
DESCRIPTION:Drug Free Club party @ Rule3 \n\nPrivate event for DFC members from 6pm- 10pm\n$10 – unlimited bowling\, mini bowling and soft drinks\nPLUS an $10 arcade card\, Chicken tenders or 2 slices of pizza\nTickets on sale at schools starting Feb. 22\n\n  \n 
URL:https://tylerslight.com/event/drug-free-club-party-rule3/
LOCATION:Rule(3)\, 650 Windmiller Drive\, Pickerington\, OH\, 43147\, United States
GEO:39.9030607;-82.7771934
X-APPLE-STRUCTURED-LOCATION;VALUE=URI;X-ADDRESS=Rule(3) 650 Windmiller Drive Pickerington OH 43147 United States;X-APPLE-RADIUS=500;X-TITLE=650 Windmiller Drive:geo:-82.7771934,39.9030607
END:VEVENT
BEGIN:VEVENT
DTSTART;TZID=America/New_York:20160304T080000
DTEND;TZID=America/New_York:20160304T110000
DTSTAMP:20260423T022428
CREATED:20160304T024011Z
LAST-MODIFIED:20160304T024011Z
UID:4502-1457078400-1457089200@tylerslight.com
SUMMARY:Northridge MS & HS\, Johnstown\, Ohio to host Tyler's Light
DESCRIPTION:Jennifer Yontz – host \n450 HS\, 350 MS
URL:https://tylerslight.com/event/northridge-ms-hs-johnstown-ohio-host-tylers-light/
END:VEVENT
BEGIN:VEVENT
DTSTART;TZID=America/New_York:20160303T100000
DTEND;TZID=America/New_York:20160303T130000
DTSTAMP:20260423T022428
CREATED:20160304T023744Z
LAST-MODIFIED:20160304T023744Z
UID:4501-1456999200-1457010000@tylerslight.com
SUMMARY:Brady's Hope video shoot Dayton\, Oh
DESCRIPTION:Mike Jansen
URL:https://tylerslight.com/event/bradys-hope-video-shoot-dayton/
END:VEVENT
BEGIN:VEVENT
DTSTART;TZID=America/New_York:20160302T190000
DTEND;TZID=America/New_York:20160302T210000
DTSTAMP:20260423T022428
CREATED:20151212T044937Z
LAST-MODIFIED:20151212T044937Z
UID:4280-1456945200-1456952400@tylerslight.com
SUMMARY:Olentangy Town Hall Meeting
DESCRIPTION:Maggie Strickland- host
URL:https://tylerslight.com/event/olentangy-town-hall-meeting/2016-03-02/
END:VEVENT
BEGIN:VEVENT
DTSTART;TZID=America/New_York:20160301T090000
DTEND;TZID=America/New_York:20160301T140000
DTSTAMP:20260423T022428
CREATED:20160304T022557Z
LAST-MODIFIED:20160304T022557Z
UID:4499-1456822800-1456840800@tylerslight.com
SUMMARY:New Lexington MS & HS to host Tyler's Light
DESCRIPTION:Mr Byers- host  930 students
URL:https://tylerslight.com/event/lexington-ms-hs-host-tylers-light/
END:VEVENT
BEGIN:VEVENT
DTSTART;TZID=America/New_York:20160229T180000
DTEND;TZID=America/New_York:20160229T200000
DTSTAMP:20260423T022428
CREATED:20160116T051810Z
LAST-MODIFIED:20160116T051810Z
UID:4392-1456768800-1456776000@tylerslight.com
SUMMARY:TYLER'S LIGHT BOARD MEETING
DESCRIPTION:TOBIN BUILDING
URL:https://tylerslight.com/event/tylers-light-board-meeting-15/2016-02-29/
END:VEVENT
BEGIN:VEVENT
DTSTART;TZID=America/New_York:20160226T100000
DTEND;TZID=America/New_York:20160226T110000
DTSTAMP:20260423T022428
CREATED:20160217T061701Z
LAST-MODIFIED:20160217T061701Z
UID:4439-1456480800-1456484400@tylerslight.com
SUMMARY:Wilmington Ohio area Superintendents meeting
DESCRIPTION:Tony Long-host
URL:https://tylerslight.com/event/wilmington-ohio-area-superintendents-meeting/
END:VEVENT
BEGIN:VEVENT
DTSTART;TZID=America/New_York:20160224T123000
DTEND;TZID=America/New_York:20160224T133000
DTSTAMP:20260423T022428
CREATED:20160217T061410Z
LAST-MODIFIED:20160217T061410Z
UID:4438-1456317000-1456320600@tylerslight.com
SUMMARY:Olde Sawmill Elementary & Penny Harvest to host Tyler's Light
DESCRIPTION:Janet DiSilvestro – host
URL:https://tylerslight.com/event/olde-sawmill-elementary-penny-harvest-host-tylers-light/
END:VEVENT
BEGIN:VEVENT
DTSTART;TZID=America/New_York:20160219T090000
DTEND;TZID=America/New_York:20160219T140000
DTSTAMP:20260423T022428
CREATED:20160217T061131Z
LAST-MODIFIED:20160217T061131Z
UID:4437-1455872400-1455890400@tylerslight.com
SUMMARY:Zane Trace MS & HS to host Tyler's Light
DESCRIPTION:Brett Mavis- host 250 MS\, 400 HS students
URL:https://tylerslight.com/event/zane-trace-ms-hs-host-tylers-light/
END:VEVENT
BEGIN:VEVENT
DTSTART;TZID=America/New_York:20160217T160000
DTEND;TZID=America/New_York:20160217T180000
DTSTAMP:20260423T022428
CREATED:20160217T060808Z
LAST-MODIFIED:20160217T060808Z
UID:4436-1455724800-1455732000@tylerslight.com
SUMMARY:Granville HS to host DRUG FREE CLUBS meeting
DESCRIPTION:Matt Durst – host
URL:https://tylerslight.com/event/granville-hs-host-drug-free-clubs-meeting/
END:VEVENT
BEGIN:VEVENT
DTSTART;TZID=America/New_York:20160216T140000
DTEND;TZID=America/New_York:20160216T150000
DTSTAMP:20260423T022428
CREATED:20160116T051710Z
LAST-MODIFIED:20160116T051710Z
UID:4391-1455631200-1455634800@tylerslight.com
SUMMARY:DISCOVER CARD SERVICES TO HOST TYLER'S LIGHT
DESCRIPTION:ALEKA PHILLIPS – HOST (400) ADULTS
URL:https://tylerslight.com/event/discover-card-services-host-tylers-light/2016-02-16/
END:VEVENT
BEGIN:VEVENT
DTSTART;TZID=America/New_York:20160215T120000
DTEND;TZID=America/New_York:20160215T133000
DTSTAMP:20260423T022428
CREATED:20160317T041543Z
LAST-MODIFIED:20160217T062102Z
UID:4390-1455537600-1455543000@tylerslight.com
SUMMARY:LICKING COUNTY SUPERINTENDENTS MEETING
DESCRIPTION:LMH –
URL:https://tylerslight.com/event/licking-county-superintendents-meeting-2/2016-02-15/
END:VEVENT
BEGIN:VEVENT
DTSTART;TZID=America/New_York:20160213T083000
DTEND;TZID=America/New_York:20160213T110000
DTSTAMP:20260423T022428
CREATED:20160217T060636Z
LAST-MODIFIED:20160217T060636Z
UID:4435-1455352200-1455361200@tylerslight.com
SUMMARY:ADAMH of Fairfield County to host Opiate Task Force
DESCRIPTION:Rhonda Myers – host
URL:https://tylerslight.com/event/adamh-fairfield-county-host-opiate-task-force/
END:VEVENT
BEGIN:VEVENT
DTSTART;TZID=America/New_York:20160211T090000
DTEND;TZID=America/New_York:20160211T100000
DTSTAMP:20260423T022428
CREATED:20160217T060509Z
LAST-MODIFIED:20160217T060509Z
UID:4434-1455181200-1455184800@tylerslight.com
SUMMARY:Worthington Kilbourne MS to host Tyler's Light
DESCRIPTION:Kelly Cox-host\, 400 8th graders
URL:https://tylerslight.com/event/worthington-kilbourne-ms-host-tylers-light/
END:VEVENT
BEGIN:VEVENT
DTSTART;TZID=America/New_York:20160210T180000
DTEND;TZID=America/New_York:20160210T210000
DTSTAMP:20260423T022428
CREATED:20160217T060326Z
LAST-MODIFIED:20160217T060348Z
UID:4433-1455127200-1455138000@tylerslight.com
SUMMARY:Koffel Law Firm to host Tyler's Light
DESCRIPTION:brad Koffel – host\, group of central Ohio leaders in prevention efforts
URL:https://tylerslight.com/event/koffel-law-firm-host-tylers-light/
END:VEVENT
BEGIN:VEVENT
DTSTART;TZID=America/New_York:20160210T133000
DTEND;TZID=America/New_York:20160210T150000
DTSTAMP:20260423T022428
CREATED:20160217T060059Z
LAST-MODIFIED:20160217T060059Z
UID:4432-1455111000-1455116400@tylerslight.com
SUMMARY:OCC Academic League to host Tyler's Light
DESCRIPTION:Greg Lahr – host\, 30 HS asst principals from OCC schools
URL:https://tylerslight.com/event/occ-academic-league-host-tylers-light-2/
END:VEVENT
BEGIN:VEVENT
DTSTART;TZID=America/New_York:20160210T133000
DTEND;TZID=America/New_York:20160210T143000
DTSTAMP:20260423T022428
CREATED:20160116T051428Z
LAST-MODIFIED:20160116T051428Z
UID:4389-1455111000-1455114600@tylerslight.com
SUMMARY:OCC ACADEMIC MEETING
DESCRIPTION:GREG LAHR – 32 ASST PRINCIPALS
URL:https://tylerslight.com/event/occ-academic-meeting/2016-02-10/
END:VEVENT
END:VCALENDAR