BEGIN:VCALENDAR
VERSION:2.0
PRODID:-//Tyler&#039;s Light - ECPv6.2.0.1//NONSGML v1.0//EN
CALSCALE:GREGORIAN
METHOD:PUBLISH
X-WR-CALNAME:Tyler&#039;s Light
X-ORIGINAL-URL:https://tylerslight.com
X-WR-CALDESC:Events for Tyler&#039;s Light
REFRESH-INTERVAL;VALUE=DURATION:PT1H
X-Robots-Tag:noindex
X-PUBLISHED-TTL:PT1H
BEGIN:VTIMEZONE
TZID:America/New_York
BEGIN:DAYLIGHT
TZOFFSETFROM:-0500
TZOFFSETTO:-0400
TZNAME:EDT
DTSTART:20160313T070000
END:DAYLIGHT
BEGIN:STANDARD
TZOFFSETFROM:-0400
TZOFFSETTO:-0500
TZNAME:EST
DTSTART:20161106T060000
END:STANDARD
END:VTIMEZONE
BEGIN:VEVENT
DTSTART;TZID=America/New_York:20161107T080000
DTEND;TZID=America/New_York:20161107T100000
DTSTAMP:20260420T174003
CREATED:20161101T031405Z
LAST-MODIFIED:20161101T031405Z
UID:5464-1478505600-1478512800@tylerslight.com
SUMMARY:FORT HAYES METROPOLITAN EDUCATION CENTER TO HOST TYLER'S LIGHT
DESCRIPTION:SUSAN PEREZ – HOST
URL:https://tylerslight.com/event/fort-hayes-metropolitan-education-center-host-tylers-light/
END:VEVENT
BEGIN:VEVENT
DTSTART;TZID=America/New_York:20161104T090000
DTEND;TZID=America/New_York:20161104T100000
DTSTAMP:20260420T174003
CREATED:20161101T025610Z
LAST-MODIFIED:20161101T025610Z
UID:5462-1478250000-1478253600@tylerslight.com
SUMMARY:GROVE CITY HS INTERVIEW FOR TYLER'S LIGHT
DESCRIPTION:GARY CAMERON & BRYAN O’SHEA (PRINCIPAL)
URL:https://tylerslight.com/event/grove-city-hs-interview-tylers-light/
END:VEVENT
BEGIN:VEVENT
DTSTART;TZID=America/New_York:20161101T083000
DTEND;TZID=America/New_York:20161101T093000
DTSTAMP:20260420T174003
CREATED:20161101T025419Z
LAST-MODIFIED:20161101T025419Z
UID:5460-1477989000-1477992600@tylerslight.com
SUMMARY:FAIRFIELD COUNTY FOUNDATION INTERVIEW
DESCRIPTION:VICTOR CHRISTOPHER – HOST FOR FUNDING APPLICATION
URL:https://tylerslight.com/event/fairfield-county-foundation-interview/
END:VEVENT
BEGIN:VEVENT
DTSTART;TZID=America/New_York:20161031T160000
DTEND;TZID=America/New_York:20161031T170000
DTSTAMP:20260420T174003
CREATED:20161101T025234Z
LAST-MODIFIED:20161101T025234Z
UID:5458-1477929600-1477933200@tylerslight.com
SUMMARY:Y.E.S. CLUB OF NEWARK TO HOST TYLER'S LIGHT
DESCRIPTION:PALMA KELLER – HOST 30 STUDENTS
URL:https://tylerslight.com/event/y-e-s-club-newark-host-tylers-light/
END:VEVENT
BEGIN:VEVENT
DTSTART;TZID=America/New_York:20161028T080000
DTEND;TZID=America/New_York:20161028T090000
DTSTAMP:20260420T174003
CREATED:20160922T021743Z
LAST-MODIFIED:20160922T021743Z
UID:4969-1477641600-1477645200@tylerslight.com
SUMMARY:Buckeye Valley HS to host Tyler's Light
DESCRIPTION:Fred Strawser – host 800 students
URL:https://tylerslight.com/event/buckeye-valley-hs-host-tylers-light/
END:VEVENT
BEGIN:VEVENT
DTSTART;TZID=America/New_York:20161027T103000
DTEND;TZID=America/New_York:20161027T114500
DTSTAMP:20260420T174003
CREATED:20160922T021424Z
LAST-MODIFIED:20160922T021424Z
UID:4967-1477564200-1477568700@tylerslight.com
SUMMARY:St. Charles HS to host Tyler's Light
DESCRIPTION:Mike Ryan – host 400 students
URL:https://tylerslight.com/event/st-charles-hs-host-tylers-light/
END:VEVENT
BEGIN:VEVENT
DTSTART;TZID=America/New_York:20161025T080000
DTEND;TZID=America/New_York:20161025T140000
DTSTAMP:20260420T174003
CREATED:20160922T021149Z
LAST-MODIFIED:20160922T021149Z
UID:4965-1477382400-1477404000@tylerslight.com
SUMMARY:Lebanon\, OH MS & HS to host Tyler's Light
DESCRIPTION:Liz Staley – host 750 students
URL:https://tylerslight.com/event/lebanon-ms-hs-host-tylers-light/
END:VEVENT
BEGIN:VEVENT
DTSTART;TZID=America/New_York:20161017T080000
DTEND;TZID=America/New_York:20161021T140000
DTSTAMP:20260420T174003
CREATED:20160922T021022Z
LAST-MODIFIED:20160922T021022Z
UID:4963-1476691200-1477058400@tylerslight.com
SUMMARY:Harrisburg PA area schools to host Tyler's Light
DESCRIPTION:Gerry Wovadau – host 5 schools
URL:https://tylerslight.com/event/harrisburg-pa-area-schools-host-tylers-light/
END:VEVENT
BEGIN:VEVENT
DTSTART;TZID=America/New_York:20161012T190000
DTEND;TZID=America/New_York:20161012T210000
DTSTAMP:20260420T174003
CREATED:20160922T021853Z
LAST-MODIFIED:20160922T021853Z
UID:4971-1476298800-1476306000@tylerslight.com
SUMMARY:Union County to host Sam Quinones & Tyler's Light
DESCRIPTION:Bruce Daniels – host
URL:https://tylerslight.com/event/union-county-host-sam-quinones-tylers-light/
END:VEVENT
BEGIN:VEVENT
DTSTART;TZID=America/New_York:20161011T070000
DTEND;TZID=America/New_York:20161011T140000
DTSTAMP:20260420T174003
CREATED:20160922T020745Z
LAST-MODIFIED:20160922T020745Z
UID:4961-1476169200-1476194400@tylerslight.com
SUMMARY:Bexley MS & HS to host Tyler's Light
DESCRIPTION:Andrea Brown – host 1\,000 students
URL:https://tylerslight.com/event/bexley-ms-hs-host-tylers-light/
END:VEVENT
BEGIN:VEVENT
DTSTART;TZID=America/New_York:20161004T110000
DTEND;TZID=America/New_York:20161004T140000
DTSTAMP:20260420T174003
CREATED:20160922T020020Z
LAST-MODIFIED:20160922T020020Z
UID:4959-1475578800-1475589600@tylerslight.com
SUMMARY:Ohio Christian University to host Tyler's Light
DESCRIPTION:Aaron Duvall-host 400 students
URL:https://tylerslight.com/event/ohio-christian-university-host-tylers-light-3/
END:VEVENT
BEGIN:VEVENT
DTSTART;TZID=America/New_York:20160930T100000
DTEND;TZID=America/New_York:20160930T110000
DTSTAMP:20260420T174003
CREATED:20160922T015657Z
LAST-MODIFIED:20160922T015657Z
UID:4957-1475229600-1475233200@tylerslight.com
SUMMARY:Diley Ridge Medical Center meeting
DESCRIPTION:Kelly Black host
URL:https://tylerslight.com/event/diley-ridge-medical-center-meeting/
END:VEVENT
BEGIN:VEVENT
DTSTART;TZID=America/New_York:20160929T130000
DTEND;TZID=America/New_York:20160929T200000
DTSTAMP:20260420T174003
CREATED:20160922T015548Z
LAST-MODIFIED:20160922T015548Z
UID:4955-1475154000-1475179200@tylerslight.com
SUMMARY:Fairfield County Recovery Conference
DESCRIPTION:ADAMH BOARD – HOST
URL:https://tylerslight.com/event/fairfield-county-recovery-conference/
END:VEVENT
BEGIN:VEVENT
DTSTART;TZID=America/New_York:20160928T140000
DTEND;TZID=America/New_York:20160928T150000
DTSTAMP:20260420T174003
CREATED:20160922T015424Z
LAST-MODIFIED:20160922T015424Z
UID:4953-1475071200-1475074800@tylerslight.com
SUMMARY:Pickerington Central HS freshman to host Tyler's Light
DESCRIPTION:DRUG FREE CLUBS – MELISSA DYER 400 STUDENTS
URL:https://tylerslight.com/event/pickerington-central-hs-freshman-host-tylers-light/
END:VEVENT
BEGIN:VEVENT
DTSTART;TZID=America/New_York:20160927T140000
DTEND;TZID=America/New_York:20160927T150000
DTSTAMP:20260420T174003
CREATED:20160922T015307Z
LAST-MODIFIED:20160922T015307Z
UID:4951-1474984800-1474988400@tylerslight.com
SUMMARY:Pickerington North HS freshman to host Tyler's Light
DESCRIPTION:DRUG FREE CLUBS – ALICIA NEWBURRY 400 STUDENTS
URL:https://tylerslight.com/event/pickerington-north-hs-freshman-host-tylers-light/
END:VEVENT
BEGIN:VEVENT
DTSTART;TZID=America/New_York:20160927T080000
DTEND;TZID=America/New_York:20160927T090000
DTSTAMP:20260420T174003
CREATED:20160922T015140Z
LAST-MODIFIED:20160922T015140Z
UID:4949-1474963200-1474966800@tylerslight.com
SUMMARY:Mt. Carmel Health nurses to host Tyler's Light
DESCRIPTION:Gretchen Gunderson – host 300 nurses
URL:https://tylerslight.com/event/mt-carmel-health-nurses-host-tylers-light/
END:VEVENT
BEGIN:VEVENT
DTSTART;TZID=America/New_York:20160924T100000
DTEND;TZID=America/New_York:20160924T140000
DTSTAMP:20260420T174003
CREATED:20160712T140254Z
LAST-MODIFIED:20160922T023329Z
UID:4855-1474711200-1474725600@tylerslight.com
SUMMARY:Tyler's Light Benefit Ride - American Legion Pickerington\, Oh
DESCRIPTION:Save the date-  Annual benefit motorcycle ride. \n9;30 am – 10:30 am registration  11:00 start
URL:https://tylerslight.com/event/tylerslight-benefit-ride/
END:VEVENT
BEGIN:VEVENT
DTSTART;TZID=America/New_York:20160921T150000
DTEND;TZID=America/New_York:20160921T160000
DTSTAMP:20260420T174003
CREATED:20160922T014845Z
LAST-MODIFIED:20160922T014845Z
UID:4947-1474470000-1474473600@tylerslight.com
SUMMARY:Franklin County ADAMH board meeting
DESCRIPTION:Mitzi Moody host – 15 counseling orgs for Central Ohio schools
URL:https://tylerslight.com/event/franklin-county-adamh-board-meeting/
END:VEVENT
BEGIN:VEVENT
DTSTART;TZID=America/New_York:20160921T090000
DTEND;TZID=America/New_York:20160921T100000
DTSTAMP:20260420T174003
CREATED:20160922T014636Z
LAST-MODIFIED:20160922T014636Z
UID:4945-1474448400-1474452000@tylerslight.com
SUMMARY:WCOL 92.3 FM to host Tyler's Light
DESCRIPTION:advertised Benefit Ride 2016
URL:https://tylerslight.com/event/wcol-92-3-fm-host-tylers-light/
END:VEVENT
BEGIN:VEVENT
DTSTART;TZID=America/New_York:20160920T090000
DTEND;TZID=America/New_York:20160920T143000
DTSTAMP:20260420T174003
CREATED:20160922T014503Z
LAST-MODIFIED:20160922T014503Z
UID:4943-1474362000-1474381800@tylerslight.com
SUMMARY:Ross County schools to host Tyler's Light - DRUG FREE CLUBS
DESCRIPTION:ADENA\, ZANE TRACE\, HUNTINGTON HS’s hosted with Anita Rogers
URL:https://tylerslight.com/event/ross-county-schools-host-tylers-light-drug-free-clubs/
END:VEVENT
BEGIN:VEVENT
DTSTART;TZID=America/New_York:20160919T140000
DTEND;TZID=America/New_York:20160919T160000
DTSTAMP:20260420T174003
CREATED:20160922T014159Z
LAST-MODIFIED:20160922T014159Z
UID:4941-1474293600-1474300800@tylerslight.com
SUMMARY:Fairfield Medical Center - collector meeting
DESCRIPTION:Cindi Graham – host for DRUG FREE CLUBS
URL:https://tylerslight.com/event/fairfield-medical-center-collector-meeting/
END:VEVENT
BEGIN:VEVENT
DTSTART;TZID=America/New_York:20160915T110000
DTEND;TZID=America/New_York:20160915T130000
DTSTAMP:20260420T174003
CREATED:20160922T014001Z
LAST-MODIFIED:20160922T014001Z
UID:4939-1473937200-1473944400@tylerslight.com
SUMMARY:Pickerington Chamber of Commerce Non-profit lunch
DESCRIPTION:Marla & Wayne manned a table
URL:https://tylerslight.com/event/pickerington-chamber-commerce-non-profit-lunch/
END:VEVENT
BEGIN:VEVENT
DTSTART;TZID=America/New_York:20160914T073000
DTEND;TZID=America/New_York:20160914T110000
DTSTAMP:20260420T174003
CREATED:20160922T013833Z
LAST-MODIFIED:20160922T013833Z
UID:4937-1473838200-1473850800@tylerslight.com
SUMMARY:Westerville South HS to host Tyler's Light
DESCRIPTION:Jennifer Stovall – host 750 students
URL:https://tylerslight.com/event/westerville-south-hs-host-tylers-light-2/
END:VEVENT
BEGIN:VEVENT
DTSTART;TZID=America/New_York:20160912T190000
DTEND;TZID=America/New_York:20160912T210000
DTSTAMP:20260420T174003
CREATED:20160922T013658Z
LAST-MODIFIED:20160922T013658Z
UID:4935-1473706800-1473714000@tylerslight.com
SUMMARY:Bexley Town Hall Meeting - Capital University
DESCRIPTION:Ohio AG office host – panel discussion 100 adults
URL:https://tylerslight.com/event/bexley-town-hall-meeting-capital-university/
END:VEVENT
BEGIN:VEVENT
DTSTART;TZID=America/New_York:20160908T090000
DTEND;TZID=America/New_York:20160908T130000
DTSTAMP:20260420T174003
CREATED:20160922T013504Z
LAST-MODIFIED:20160922T013504Z
UID:4933-1473325200-1473339600@tylerslight.com
SUMMARY:Canton South HS to host Tyler's Light
DESCRIPTION:Jeff Moore – contact 350 students
URL:https://tylerslight.com/event/canton-south-hs-host-tylers-light-2/
END:VEVENT
BEGIN:VEVENT
DTSTART;TZID=America/New_York:20160906T100000
DTEND;TZID=America/New_York:20160906T120000
DTSTAMP:20260420T174003
CREATED:20160922T013157Z
LAST-MODIFIED:20160922T013157Z
UID:4931-1473156000-1473163200@tylerslight.com
SUMMARY:Pataskala Anti-Drug Meeting
DESCRIPTION:meeting about DRUG FREE CLUBS in Watkins HS
URL:https://tylerslight.com/event/pataskala-anti-drug-meeting/
END:VEVENT
BEGIN:VEVENT
DTSTART;TZID=America/New_York:20160831T160000
DTEND;TZID=America/New_York:20160831T190000
DTSTAMP:20260420T174003
CREATED:20160810T220920Z
LAST-MODIFIED:20160810T221131Z
UID:4890-1472659200-1472670000@tylerslight.com
SUMMARY:International Overdose Awareness Day - Lancaster
DESCRIPTION:Calling for an end to our Nations  epidemic of addiction and overdose deaths attributed to opioids (including heroin) and other prescription drugs. Wednesday\, August 31\, 2016
URL:https://tylerslight.com/event/international-overdose-awareness-day/
LOCATION:Bandstand\, downtown Lancaster \, Ohio\, Lancaster \, OH\, United States
GEO:39.7136754;-82.5993294
END:VEVENT
BEGIN:VEVENT
DTSTART;TZID=America/New_York:20160827T120000
DTEND;TZID=America/New_York:20160827T180000
DTSTAMP:20260420T174003
CREATED:20160712T135916Z
LAST-MODIFIED:20160712T141859Z
UID:4852-1472299200-1472320800@tylerslight.com
SUMMARY:Tyler's Light Golf Outing
DESCRIPTION:Tyler’s Light annual Golf Outing \nSaturday August 27\, 2016 \nLittle Turtle Golf Club \nRegistration at noon\,  shotgun start at 1:30pm \nRegister online: Tylerslight.com/golf
URL:https://tylerslight.com/event/tylers-light-golf-outing/
LOCATION:Little turtle golf club\, OH\, United States
GEO:40.4172871;-82.907123
END:VEVENT
BEGIN:VEVENT
DTSTART;TZID=America/New_York:20160524T080000
DTEND;TZID=America/New_York:20160524T090000
DTSTAMP:20260420T174003
CREATED:20160414T041029Z
LAST-MODIFIED:20160414T041029Z
UID:4739-1464076800-1464080400@tylerslight.com
SUMMARY:Granville MS to host Tyler's Light
DESCRIPTION:Misti Postle – host  7-8 (400)
URL:https://tylerslight.com/event/granville-ms-host-tylers-light-2/
END:VEVENT
BEGIN:VEVENT
DTSTART;TZID=America/New_York:20160519T090000
DTEND;TZID=America/New_York:20160519T190000
DTSTAMP:20260420T174003
CREATED:20160505T032149Z
LAST-MODIFIED:20160505T032149Z
UID:4771-1463648400-1463684400@tylerslight.com
SUMMARY:GROTON-DUNSTABLE HS (GROTON\, MA) TO HOST TYLER'S LIGHT
DESCRIPTION:MIKE MASTRULLO-HOST 900 STUDENTS 9-12
URL:https://tylerslight.com/event/groton-dunstable-hs-groton-ma-host-tylers-light/
END:VEVENT
END:VCALENDAR