BEGIN:VCALENDAR
VERSION:2.0
PRODID:-//Tyler&#039;s Light - ECPv6.2.0.1//NONSGML v1.0//EN
CALSCALE:GREGORIAN
METHOD:PUBLISH
X-WR-CALNAME:Tyler&#039;s Light
X-ORIGINAL-URL:https://tylerslight.com
X-WR-CALDESC:Events for Tyler&#039;s Light
REFRESH-INTERVAL;VALUE=DURATION:PT1H
X-Robots-Tag:noindex
X-PUBLISHED-TTL:PT1H
BEGIN:VTIMEZONE
TZID:America/New_York
BEGIN:DAYLIGHT
TZOFFSETFROM:-0500
TZOFFSETTO:-0400
TZNAME:EDT
DTSTART:20160313T070000
END:DAYLIGHT
BEGIN:STANDARD
TZOFFSETFROM:-0400
TZOFFSETTO:-0500
TZNAME:EST
DTSTART:20161106T060000
END:STANDARD
BEGIN:DAYLIGHT
TZOFFSETFROM:-0500
TZOFFSETTO:-0400
TZNAME:EDT
DTSTART:20170312T070000
END:DAYLIGHT
BEGIN:STANDARD
TZOFFSETFROM:-0400
TZOFFSETTO:-0500
TZNAME:EST
DTSTART:20171105T060000
END:STANDARD
END:VTIMEZONE
BEGIN:VEVENT
DTSTART;TZID=America/New_York:20170302T120000
DTEND;TZID=America/New_York:20170302T140000
DTSTAMP:20260420T004029
CREATED:20170203T060213Z
LAST-MODIFIED:20170203T060213Z
UID:6178-1488456000-1488463200@tylerslight.com
SUMMARY:Southern Ohio Educational Services\, Hillsboro OH to host Tyler's Light
DESCRIPTION:Kimberly Douglas & Bret Malone – hosts\, Adams\, Clinton\, Fayette & Highland Counties\, 40 HS counselors.
URL:https://tylerslight.com/event/southern-ohio-educational-services-hillsboro-host-tylers-light/
END:VEVENT
BEGIN:VEVENT
DTSTART;TZID=America/New_York:20170301T080000
DTEND;TZID=America/New_York:20170301T100000
DTSTAMP:20260420T004029
CREATED:20170203T060835Z
LAST-MODIFIED:20170203T060835Z
UID:6181-1488355200-1488362400@tylerslight.com
SUMMARY:Drug Free Clubs
DESCRIPTION:random test day for both Pickerington HS’s
URL:https://tylerslight.com/event/drug-free-clubs/
END:VEVENT
BEGIN:VEVENT
DTSTART;TZID=America/New_York:20170228T120000
DTEND;TZID=America/New_York:20170228T150000
DTSTAMP:20260420T004029
CREATED:20170203T055650Z
LAST-MODIFIED:20170203T055650Z
UID:6177-1488283200-1488294000@tylerslight.com
SUMMARY:Kings HS\, Kings Mills\, Oh to host Tyler's Light
DESCRIPTION:Rob Burnside – host\, 2 presentations\, 1200 students
URL:https://tylerslight.com/event/kings-hs-kings-mills-host-tylers-light/
END:VEVENT
BEGIN:VEVENT
DTSTART;TZID=America/New_York:20170221T090000
DTEND;TZID=America/New_York:20170221T100000
DTSTAMP:20260420T004029
CREATED:20170203T055445Z
LAST-MODIFIED:20170203T055445Z
UID:6176-1487667600-1487671200@tylerslight.com
SUMMARY:Pickerington Central PTO meeting
DESCRIPTION:attend meeting to seek support for DFCA chapter
URL:https://tylerslight.com/event/pickerington-central-pto-meeting/
END:VEVENT
BEGIN:VEVENT
DTSTART;TZID=America/New_York:20170214T080000
DTEND;TZID=America/New_York:20170214T153000
DTSTAMP:20260420T004029
CREATED:20170203T055203Z
LAST-MODIFIED:20170203T055203Z
UID:6175-1487059200-1487086200@tylerslight.com
SUMMARY:Mike DeWine Ohio A.G. Opiate meeting
DESCRIPTION:yearly conference all day
URL:https://tylerslight.com/event/mike-dewine-ohio-a-g-opiate-meeting/
END:VEVENT
BEGIN:VEVENT
DTSTART;TZID=America/New_York:20170213T130000
DTEND;TZID=America/New_York:20170213T150000
DTSTAMP:20260420T004029
CREATED:20170203T055043Z
LAST-MODIFIED:20170203T055043Z
UID:6173-1486990800-1486998000@tylerslight.com
SUMMARY:East Liverpool\, Oh MS & HS to host Tyler's Light
DESCRIPTION:Jon Ludwig – host\, 2 presentations 600 HS & 325 MS
URL:https://tylerslight.com/event/east-liverpool-ms-hs-host-tylers-light/
END:VEVENT
BEGIN:VEVENT
DTSTART;TZID=America/New_York:20170213T090000
DTEND;TZID=America/New_York:20170213T110000
DTSTAMP:20260420T004029
CREATED:20170203T054832Z
LAST-MODIFIED:20170203T054832Z
UID:6172-1486976400-1486983600@tylerslight.com
SUMMARY:Crestview MS & HS\, Columbiana\, Oh to host Tyler's Light
DESCRIPTION:Lynda Dickson – host\, 600 students grades 7-12
URL:https://tylerslight.com/event/crestview-ms-hs-columbiana-host-tylers-light/
END:VEVENT
BEGIN:VEVENT
DTSTART;TZID=America/New_York:20170210T080000
DTEND;TZID=America/New_York:20170210T100000
DTSTAMP:20260420T004029
CREATED:20170203T054145Z
LAST-MODIFIED:20170203T054145Z
UID:6171-1486713600-1486720800@tylerslight.com
SUMMARY:Westfall MS & HS\, Williamsport\, OH to host Tyler's Light
DESCRIPTION:Ashley Kelly – host 2 presentations 650 students
URL:https://tylerslight.com/event/westfall-ms-hs-williamsport-host-tylers-light/
END:VEVENT
BEGIN:VEVENT
DTSTART;TZID=America/New_York:20170209T173000
DTEND;TZID=America/New_York:20170209T193000
DTSTAMP:20260420T004029
CREATED:20170203T053851Z
LAST-MODIFIED:20170203T053851Z
UID:6170-1486661400-1486668600@tylerslight.com
SUMMARY:Pickerington Chamber of Commerce Awards dinner
DESCRIPTION:Tyler’s Light is a finalist for Doug Barr award
URL:https://tylerslight.com/event/pickerington-chamber-commerce-awards-dinner/
END:VEVENT
BEGIN:VEVENT
DTSTART;TZID=America/New_York:20170207T130000
DTEND;TZID=America/New_York:20170207T140000
DTSTAMP:20260420T004029
CREATED:20170203T053656Z
LAST-MODIFIED:20170203T053656Z
UID:6169-1486472400-1486476000@tylerslight.com
SUMMARY:Avella\, PA. MS & HS to host Tyler's Light
DESCRIPTION:Debbie Bentz – host grades 7-12\, 265 students
URL:https://tylerslight.com/event/avella-pa-ms-hs-host-tylers-light/
END:VEVENT
BEGIN:VEVENT
DTSTART;TZID=America/New_York:20170202T120000
DTEND;TZID=America/New_York:20170202T133000
DTSTAMP:20260420T004029
CREATED:20170203T053334Z
LAST-MODIFIED:20170203T053334Z
UID:6168-1486036800-1486042200@tylerslight.com
SUMMARY:Canal Winchester Rotary Club to host Tyler's Light
DESCRIPTION:Eva Hush – host 10 members
URL:https://tylerslight.com/event/canal-winchester-rotary-club-host-tylers-light/
END:VEVENT
BEGIN:VEVENT
DTSTART;TZID=America/New_York:20170201T120000
DTEND;TZID=America/New_York:20170201T140000
DTSTAMP:20260420T004029
CREATED:20170203T053141Z
LAST-MODIFIED:20170203T053141Z
UID:6167-1485950400-1485957600@tylerslight.com
SUMMARY:Dennis Lowe - Major Crimes Unit Fairfield County meeting
DESCRIPTION:lunch to discuss Fairfield County
URL:https://tylerslight.com/event/dennis-lowe-major-crimes-unit-fairfield-county-meeting/
END:VEVENT
BEGIN:VEVENT
DTSTART;TZID=America/New_York:20170131T130000
DTEND;TZID=America/New_York:20170131T140000
DTSTAMP:20260420T004029
CREATED:20170203T052913Z
LAST-MODIFIED:20170203T052913Z
UID:6166-1485867600-1485871200@tylerslight.com
SUMMARY:John Husted-Ohio Secretary of State meeting
DESCRIPTION:Brad Koffel & Stephanie Krider joined the meeting to discuss the Opioid epidemic 
URL:https://tylerslight.com/event/john-husted-ohio-secretary-state-meeting/
END:VEVENT
BEGIN:VEVENT
DTSTART;TZID=America/New_York:20170127T100000
DTEND;TZID=America/New_York:20170127T120000
DTSTAMP:20260420T004029
CREATED:20170203T052640Z
LAST-MODIFIED:20170203T052640Z
UID:6165-1485511200-1485518400@tylerslight.com
SUMMARY:Ross County DFCA meeting
DESCRIPTION:Chris Scott & Dave Huggins speakers
URL:https://tylerslight.com/event/ross-county-dfca-meeting/
END:VEVENT
BEGIN:VEVENT
DTSTART;TZID=America/New_York:20170125T180000
DTEND;TZID=America/New_York:20170125T200000
DTSTAMP:20260420T004029
CREATED:20170203T052335Z
LAST-MODIFIED:20170203T052335Z
UID:6164-1485367200-1485374400@tylerslight.com
SUMMARY:Canal Winchester Community Forum
DESCRIPTION:Sheriff Phalen & Dennis Lowe presenters 
URL:https://tylerslight.com/event/canal-winchester-community-forum/
END:VEVENT
BEGIN:VEVENT
DTSTART;TZID=America/New_York:20170125T080000
DTEND;TZID=America/New_York:20170125T150000
DTSTAMP:20260420T004029
CREATED:20170203T052153Z
LAST-MODIFIED:20170203T052153Z
UID:6163-1485331200-1485356400@tylerslight.com
SUMMARY:Tipp City\, Ohio MS & HS to host Tyler's Light
DESCRIPTION:Melissa Stucke – host 1200 students grades 7-12\, 3 presentations
URL:https://tylerslight.com/event/tipp-city-ohio-ms-hs-host-tylers-light/
END:VEVENT
BEGIN:VEVENT
DTSTART;TZID=America/New_York:20170124T090000
DTEND;TZID=America/New_York:20170124T110000
DTSTAMP:20260420T004029
CREATED:20170203T051922Z
LAST-MODIFIED:20170203T051922Z
UID:6162-1485248400-1485255600@tylerslight.com
SUMMARY:ADAMH Franklin County to host Tyler's Light
DESCRIPTION:presentation for 40 HS staff and providers\, Mitzi Moody host
URL:https://tylerslight.com/event/adamh-franklin-county-host-tylers-light/
END:VEVENT
BEGIN:VEVENT
DTSTART;TZID=America/New_York:20170123T140000
DTEND;TZID=America/New_York:20170123T150000
DTSTAMP:20260420T004029
CREATED:20170203T051726Z
LAST-MODIFIED:20170203T051726Z
UID:6161-1485180000-1485183600@tylerslight.com
SUMMARY:The Columbus Foundation - Lisa Courtice
DESCRIPTION:meeting with VP to discuss funding opportunities
URL:https://tylerslight.com/event/columbus-foundation-lisa-courtice/
END:VEVENT
BEGIN:VEVENT
DTSTART;TZID=America/New_York:20170119T080000
DTEND;TZID=America/New_York:20170120T150000
DTSTAMP:20260420T004029
CREATED:20170203T051555Z
LAST-MODIFIED:20170203T051555Z
UID:6160-1484812800-1484924400@tylerslight.com
SUMMARY:Westland HS to host Tyler's Light
DESCRIPTION:Christina Shore – host 1600 students\, 4 presentations.  David Sigal & Gary Cameron presenters 
URL:https://tylerslight.com/event/westland-hs-host-tylers-light/
END:VEVENT
BEGIN:VEVENT
DTSTART;TZID=America/New_York:20170118T170000
DTEND;TZID=America/New_York:20170118T190000
DTSTAMP:20260420T004029
CREATED:20170203T051215Z
LAST-MODIFIED:20170203T051215Z
UID:6159-1484758800-1484766000@tylerslight.com
SUMMARY:Fairfield Medical Center Opioid Education
DESCRIPTION:2 hour seminar
URL:https://tylerslight.com/event/fairfield-medical-center-opioid-education/
END:VEVENT
BEGIN:VEVENT
DTSTART;TZID=America/New_York:20170117T080000
DTEND;TZID=America/New_York:20170117T110000
DTSTAMP:20260420T004029
CREATED:20170203T051011Z
LAST-MODIFIED:20170203T051011Z
UID:6158-1484640000-1484650800@tylerslight.com
SUMMARY:DRUG FREE CLUBS test day
DESCRIPTION:
URL:https://tylerslight.com/event/drug-free-clubs-test-day-4/
END:VEVENT
BEGIN:VEVENT
DTSTART;TZID=America/New_York:20170109T153000
DTEND;TZID=America/New_York:20170109T170000
DTSTAMP:20260420T004029
CREATED:20170203T050723Z
LAST-MODIFIED:20170203T050723Z
UID:6157-1483975800-1483981200@tylerslight.com
SUMMARY:Fairfield County Opiate Task Force meeting
DESCRIPTION:
URL:https://tylerslight.com/event/fairfield-county-opiate-task-force-meeting/
END:VEVENT
BEGIN:VEVENT
DTSTART;TZID=America/New_York:20170105T130000
DTEND;TZID=America/New_York:20170105T140000
DTSTAMP:20260420T004029
CREATED:20170203T050616Z
LAST-MODIFIED:20170203T050616Z
UID:6156-1483621200-1483624800@tylerslight.com
SUMMARY:Franklin County Prosecutor Ron O'Brien donates $15\,000 to Tyler's Light
DESCRIPTION:second year of support from Ron O’Brien!
URL:https://tylerslight.com/event/franklin-county-prosecutor-ron-obrien-donates-15000-tylers-light/
END:VEVENT
BEGIN:VEVENT
DTSTART;TZID=America/New_York:20161202T200000
DTEND;TZID=America/New_York:20161202T210000
DTSTAMP:20260420T004029
CREATED:20161202T140019Z
LAST-MODIFIED:20200304T030352Z
UID:6068-1480708800-1480712400@tylerslight.com
SUMMARY:Narcotics Anonymous - Pickerington
DESCRIPTION:CHANGE OR DIE MEETING! \nSt. Andrew’s Episcopal Church \n8630 Refugee Road  Pickerington\, Ohio 43147 \nOPEN\, LITERATURE
URL:https://tylerslight.com/event/st-andrews-na-meeting/2016-12-02/
LOCATION:St. Andrews\, 8630 Refugee Road \, Pickerington\, 43147\, United States
GEO:39.9088871;-82.7499092
X-APPLE-STRUCTURED-LOCATION;VALUE=URI;X-ADDRESS=St. Andrews 8630 Refugee Road  Pickerington 43147 United States;X-APPLE-RADIUS=500;X-TITLE=8630 Refugee Road:geo:-82.7499092,39.9088871
END:VEVENT
BEGIN:VEVENT
DTSTART;TZID=America/New_York:20161202T080000
DTEND;TZID=America/New_York:20161202T110000
DTSTAMP:20260420T004029
CREATED:20161101T033942Z
LAST-MODIFIED:20161101T033942Z
UID:5485-1480665600-1480676400@tylerslight.com
SUMMARY:PARKERSBURG SOUTH H.S. TO HOST TYLER'S LIGHT
DESCRIPTION:ROBERT NEWELL – HOST 1600 STUDENTS
URL:https://tylerslight.com/event/parkersburg-south-h-s-host-tylers-light/
END:VEVENT
BEGIN:VEVENT
DTSTART;TZID=America/New_York:20161201T080000
DTEND;TZID=America/New_York:20161201T110000
DTSTAMP:20260420T004029
CREATED:20161101T033834Z
LAST-MODIFIED:20161101T033834Z
UID:5483-1480579200-1480590000@tylerslight.com
SUMMARY:PARKERSBURG\, WV H.S. TO HOST TYLER'S LIGHT
DESCRIPTION:ROBERT NEWELL -HOST
URL:https://tylerslight.com/event/parkersburg-wv-h-s-host-tylers-light/
END:VEVENT
BEGIN:VEVENT
DTSTART;TZID=America/New_York:20161130T080000
DTEND;TZID=America/New_York:20161130T110000
DTSTAMP:20260420T004029
CREATED:20161101T033708Z
LAST-MODIFIED:20161101T033708Z
UID:5481-1480492800-1480503600@tylerslight.com
SUMMARY:MARIETTA\, OH MS & HS TO HOST TYLER'S LIGHT
DESCRIPTION:JONA HALL – HOST 650 HS STUDENTS\, 300 MS STUDENTS
URL:https://tylerslight.com/event/marietta-ms-hs-host-tylers-light/
END:VEVENT
BEGIN:VEVENT
DTSTART;TZID=America/New_York:20161129T170000
DTEND;TZID=America/New_York:20161129T190000
DTSTAMP:20260420T004029
CREATED:20161101T032911Z
LAST-MODIFIED:20161101T032911Z
UID:5479-1480438800-1480446000@tylerslight.com
SUMMARY:OHIO UNIVERSITY\, ATHENS CAMPUS TO HOST TYLER'S LIGHT
DESCRIPTION:CECE BICKHAM & JULIE MILLER – HOSTS
URL:https://tylerslight.com/event/ohio-university-athens-campus-host-tylers-light/
END:VEVENT
BEGIN:VEVENT
DTSTART;TZID=America/New_York:20161129T120000
DTEND;TZID=America/New_York:20161129T130000
DTSTAMP:20260420T004029
CREATED:20161101T032710Z
LAST-MODIFIED:20161101T032710Z
UID:5477-1480420800-1480424400@tylerslight.com
SUMMARY:NEWARK ROTARY CLUB TO HOST TYLER'S LIGHT
DESCRIPTION:ERIECH HORVATH – HOST TO RECIEVE AWARD
URL:https://tylerslight.com/event/newark-rotary-club-host-tylers-light-2/
END:VEVENT
BEGIN:VEVENT
DTSTART;TZID=America/New_York:20161128T173000
DTEND;TZID=America/New_York:20161128T190000
DTSTAMP:20260420T004029
CREATED:20161101T032542Z
LAST-MODIFIED:20161101T032542Z
UID:5475-1480354200-1480359600@tylerslight.com
SUMMARY:OHIO STATE SOCIAL WORKERS TO HOST TYLER'S LIGHT
DESCRIPTION:MILU GYEN – HOST  25 ADULTS
URL:https://tylerslight.com/event/ohio-state-social-workers-host-tylers-light/
END:VEVENT
END:VCALENDAR