BEGIN:VCALENDAR
VERSION:2.0
PRODID:-//Tyler&#039;s Light - ECPv6.2.0.1//NONSGML v1.0//EN
CALSCALE:GREGORIAN
METHOD:PUBLISH
X-WR-CALNAME:Tyler&#039;s Light
X-ORIGINAL-URL:https://tylerslight.com
X-WR-CALDESC:Events for Tyler&#039;s Light
REFRESH-INTERVAL;VALUE=DURATION:PT1H
X-Robots-Tag:noindex
X-PUBLISHED-TTL:PT1H
BEGIN:VTIMEZONE
TZID:America/New_York
BEGIN:DAYLIGHT
TZOFFSETFROM:-0500
TZOFFSETTO:-0400
TZNAME:EDT
DTSTART:20150308T070000
END:DAYLIGHT
BEGIN:STANDARD
TZOFFSETFROM:-0400
TZOFFSETTO:-0500
TZNAME:EST
DTSTART:20151101T060000
END:STANDARD
END:VTIMEZONE
BEGIN:VEVENT
DTSTART;TZID=America/New_York:20151216T123000
DTEND;TZID=America/New_York:20151216T140000
DTSTAMP:20260424T001752
CREATED:20151022T224740Z
LAST-MODIFIED:20151022T224740Z
UID:4126-1450269000-1450274400@tylerslight.com
SUMMARY:Western MS & HS\, Latham\, OH to host Tyler's Light
DESCRIPTION:Brock Brewster – contact  grades 7-12\,  275 students
URL:https://tylerslight.com/event/western-ms-hs-latham-host-tylers-light/2015-12-16/
END:VEVENT
END:VCALENDAR