BEGIN:VCALENDAR
VERSION:2.0
PRODID:-//Tyler&#039;s Light - ECPv6.2.0.1//NONSGML v1.0//EN
CALSCALE:GREGORIAN
METHOD:PUBLISH
X-WR-CALNAME:Tyler&#039;s Light
X-ORIGINAL-URL:https://tylerslight.com
X-WR-CALDESC:Events for Tyler&#039;s Light
REFRESH-INTERVAL;VALUE=DURATION:PT1H
X-Robots-Tag:noindex
X-PUBLISHED-TTL:PT1H
BEGIN:VTIMEZONE
TZID:America/New_York
BEGIN:DAYLIGHT
TZOFFSETFROM:-0500
TZOFFSETTO:-0400
TZNAME:EDT
DTSTART:20150308T070000
END:DAYLIGHT
BEGIN:STANDARD
TZOFFSETFROM:-0400
TZOFFSETTO:-0500
TZNAME:EST
DTSTART:20151101T060000
END:STANDARD
END:VTIMEZONE
BEGIN:VEVENT
DTSTART;TZID=America/New_York:20151215T130000
DTEND;TZID=America/New_York:20151215T150000
DTSTAMP:20260424T014217
CREATED:20151212T042243Z
LAST-MODIFIED:20151212T042243Z
UID:4270-1450184400-1450191600@tylerslight.com
SUMMARY:TL video meeting
DESCRIPTION:Rosina Fisher
URL:https://tylerslight.com/event/tl-video-meeting/2015-12-15/
END:VEVENT
END:VCALENDAR