BEGIN:VCALENDAR
VERSION:2.0
PRODID:-//Tyler&#039;s Light - ECPv6.2.0.1//NONSGML v1.0//EN
CALSCALE:GREGORIAN
METHOD:PUBLISH
X-WR-CALNAME:Tyler&#039;s Light
X-ORIGINAL-URL:https://tylerslight.com
X-WR-CALDESC:Events for Tyler&#039;s Light
REFRESH-INTERVAL;VALUE=DURATION:PT1H
X-Robots-Tag:noindex
X-PUBLISHED-TTL:PT1H
BEGIN:VTIMEZONE
TZID:America/New_York
BEGIN:DAYLIGHT
TZOFFSETFROM:-0500
TZOFFSETTO:-0400
TZNAME:EDT
DTSTART:20160313T070000
END:DAYLIGHT
BEGIN:STANDARD
TZOFFSETFROM:-0400
TZOFFSETTO:-0500
TZNAME:EST
DTSTART:20161106T060000
END:STANDARD
END:VTIMEZONE
BEGIN:VEVENT
DTSTART;TZID=America/New_York:20160107T190000
DTEND;TZID=America/New_York:20160107T200000
DTSTAMP:20260424T001746
CREATED:20151212T042805Z
LAST-MODIFIED:20151212T042805Z
UID:4271-1452193200-1452196800@tylerslight.com
SUMMARY:St. Andrews meeting
DESCRIPTION:Alicia Newburry with Dr and lawyer
URL:https://tylerslight.com/event/st-andrews-meeting/2016-01-07/
END:VEVENT
END:VCALENDAR