BEGIN:VCALENDAR
VERSION:2.0
PRODID:-//Tyler&#039;s Light - ECPv6.2.0.1//NONSGML v1.0//EN
CALSCALE:GREGORIAN
METHOD:PUBLISH
X-WR-CALNAME:Tyler&#039;s Light
X-ORIGINAL-URL:https://tylerslight.com
X-WR-CALDESC:Events for Tyler&#039;s Light
REFRESH-INTERVAL;VALUE=DURATION:PT1H
X-Robots-Tag:noindex
X-PUBLISHED-TTL:PT1H
BEGIN:VTIMEZONE
TZID:America/New_York
BEGIN:DAYLIGHT
TZOFFSETFROM:-0500
TZOFFSETTO:-0400
TZNAME:EDT
DTSTART:20150308T070000
END:DAYLIGHT
BEGIN:STANDARD
TZOFFSETFROM:-0400
TZOFFSETTO:-0500
TZNAME:EST
DTSTART:20151101T060000
END:STANDARD
END:VTIMEZONE
BEGIN:VEVENT
DTSTART;TZID=America/New_York:20150922T120000
DTEND;TZID=America/New_York:20150922T140000
DTSTAMP:20260425T213622
CREATED:20150927T050015Z
LAST-MODIFIED:20150927T050015Z
UID:4038-1442923200-1442930400@tylerslight.com
SUMMARY:South Central Power-Country Living magazine interview
DESCRIPTION:Lisa Hooker
URL:https://tylerslight.com/event/south-central-power-country-living-magazine-interview/2015-09-22/
END:VEVENT
END:VCALENDAR