BEGIN:VCALENDAR
VERSION:2.0
PRODID:-//Tyler&#039;s Light - ECPv6.2.0.1//NONSGML v1.0//EN
CALSCALE:GREGORIAN
METHOD:PUBLISH
X-ORIGINAL-URL:https://tylerslight.com
X-WR-CALDESC:Events for Tyler&#039;s Light
REFRESH-INTERVAL;VALUE=DURATION:PT1H
X-Robots-Tag:noindex
X-PUBLISHED-TTL:PT1H
BEGIN:VTIMEZONE
TZID:America/New_York
BEGIN:DAYLIGHT
TZOFFSETFROM:-0500
TZOFFSETTO:-0400
TZNAME:EDT
DTSTART:20160313T070000
END:DAYLIGHT
BEGIN:STANDARD
TZOFFSETFROM:-0400
TZOFFSETTO:-0500
TZNAME:EST
DTSTART:20161106T060000
END:STANDARD
END:VTIMEZONE
BEGIN:VEVENT
DTSTART;VALUE=DATE:20160111
DTEND;VALUE=DATE:20160114
DTSTAMP:20260424T001939
CREATED:20151212T051814Z
LAST-MODIFIED:20160116T044655Z
UID:4288-1452470400-1452729599@tylerslight.com
SUMMARY:F.D.A. MEETING IN WASHINGTON\, DC
DESCRIPTION:DAVID BYRUM – HOST
URL:https://tylerslight.com/event/f-d-a-meeting-washington-dc/2016-01-11/
END:VEVENT
END:VCALENDAR