BEGIN:VCALENDAR
VERSION:2.0
PRODID:-//Tyler&#039;s Light - ECPv6.2.0.1//NONSGML v1.0//EN
CALSCALE:GREGORIAN
METHOD:PUBLISH
X-WR-CALNAME:Tyler&#039;s Light
X-ORIGINAL-URL:https://tylerslight.com
X-WR-CALDESC:Events for Tyler&#039;s Light
REFRESH-INTERVAL;VALUE=DURATION:PT1H
X-Robots-Tag:noindex
X-PUBLISHED-TTL:PT1H
BEGIN:VTIMEZONE
TZID:America/New_York
BEGIN:DAYLIGHT
TZOFFSETFROM:-0500
TZOFFSETTO:-0400
TZNAME:EDT
DTSTART:20160313T070000
END:DAYLIGHT
BEGIN:STANDARD
TZOFFSETFROM:-0400
TZOFFSETTO:-0500
TZNAME:EST
DTSTART:20161106T060000
END:STANDARD
END:VTIMEZONE
BEGIN:VEVENT
DTSTART;TZID=America/New_York:20160413T080000
DTEND;TZID=America/New_York:20160413T170000
DTSTAMP:20260423T023711
CREATED:20151212T050507Z
LAST-MODIFIED:20151212T050507Z
UID:4286-1460534400-1460566800@tylerslight.com
SUMMARY:Columbus Bar Association to host Tyler's Light
DESCRIPTION:Penny Oncea – Judy McInturf – hosts
URL:https://tylerslight.com/event/columbus-bar-association-host-tylers-light/2016-04-13/
END:VEVENT
END:VCALENDAR