BEGIN:VCALENDAR
VERSION:2.0
PRODID:-//Tyler&#039;s Light - ECPv6.2.0.1//NONSGML v1.0//EN
CALSCALE:GREGORIAN
METHOD:PUBLISH
X-WR-CALNAME:Tyler&#039;s Light
X-ORIGINAL-URL:https://tylerslight.com
X-WR-CALDESC:Events for Tyler&#039;s Light
REFRESH-INTERVAL;VALUE=DURATION:PT1H
X-Robots-Tag:noindex
X-PUBLISHED-TTL:PT1H
BEGIN:VTIMEZONE
TZID:America/New_York
BEGIN:DAYLIGHT
TZOFFSETFROM:-0500
TZOFFSETTO:-0400
TZNAME:EDT
DTSTART:20150308T070000
END:DAYLIGHT
BEGIN:STANDARD
TZOFFSETFROM:-0400
TZOFFSETTO:-0500
TZNAME:EST
DTSTART:20151101T060000
END:STANDARD
END:VTIMEZONE
BEGIN:VEVENT
DTSTART;TZID=America/New_York:20151027T080000
DTEND;TZID=America/New_York:20151027T130000
DTSTAMP:20260424T074655
CREATED:20150928T042138Z
LAST-MODIFIED:20150928T042138Z
UID:4058-1445932800-1445950800@tylerslight.com
SUMMARY:Chillicothe HS & MS to host Tyler's Light
DESCRIPTION:Jon Saxton – host\, 2 presentations.
URL:https://tylerslight.com/event/chillicothe-hs-ms-host-tylers-light/2015-10-27/
END:VEVENT
END:VCALENDAR